Workbook
Name ShippingServices: 'DropShip Form'!#REF!

Sheet DropShip Form
B1: Recchiuti Confections | Multiple Shipping Address Template | AQ1: ;
B2: Please call us at 1-800-500-3396 or email corporate@recchiuti.com with any questions about this form. Please double-check that addresses are correct. FedEx and UPS charge a $21.00 re-routing fee to change an address after a packaged has shipped and that fee will be passed along if re-routing is required. We are unable to ship to PO Boxes, or internationally. | AQ2: 16
B3: Order will be shipped Mon - Thurs of the week selected. Please ask Concierge for available weeks | C3: Jon Smith | D3: 888-888-8888 | E3: Fresh Tech, Inc. (30 character max) | F3: 1 Fresh Tech Way | G3: Suite 100 (30 character max) | H3: San Francisco | I3: CA | J3: 94107 | K3: Ground*, 2Day, Standard Overnight (arrives by 8pm), or Priority Overnight (arrives by 10:30am) * Ground shipping only available for CA, OR, WA, NV & UT, weather permitting. | L3: Select "Signature" or "No" ($5.25 per address) | O3: (e.g. ribbon color, custom ribbon) | R3: (e.g. ribbon color, custom ribbon) | U3: (e.g. ribbon color, custom ribbon) | X3: (e.g. ribbon color, custom ribbon) | Y3: If no gift message is entered, we will not include a gift note in the package (Max 30 words; please include your name as recipient will not see name of sender) | AA3: RC USE ONLY | AB3: RC USE ONLY | AC3: RC USE ONLY | AD3: RC USE ONLY | AE3: RC USE ONLY | AF3: RC USE ONLY | AG3: RC USE ONLY | AH3: RC USE ONLY | AI3: RC USE ONLY | AJ3: RC USE ONLY | AK3: RC USE ONLY | AL3: RC USE ONLY | AM3: RC USE ONLY | AN3: RC USE ONLY | AO3: RC USE ONLY | AP3: RC USE ONLY | AQ3: RC USE ONLY | AR3: RC USE ONLY (if applicable) | AS3: RC USE ONLY | AT3: RC USE ONLY
M4: PRODUCT 1 | P4: PRODUCT 2 | S4: PRODUCT 3 | V4: PRODUCT 4 | AK4: Require Signature Service? | AN4: Requested Ship Date | AR4: Third Party FedEx Account # | AS4: Sales Channel (e.g. Corporate or C-Direct)
B5: Preferred Delivery Week | C5: Recipient Full Name | D5: Recipient Phone | E5: Recipient Company | F5: Address Line 1 | G5: Address Line 2 | H5: City | I5: State | J5: Postal Code | K5: Shipping Service | L5: Require Signature Service? | M5: Product 1 Name Choose from drop-down menu | N5: Product 1 Quantity | O5: Product 1 Details or Special Instructions (optional) | P5: Product 2 Name | Q5: Product 2 Quantity | R5: Product 2 Details or Special Instructions (optional) | S5: Product 3 Name | T5: Product 3 Quantity | U5: Product 3 Details or Special Instructions (optional) | V5: Product 4 Name | W5: Product 4 Quantity | X5: Product 4 Details or Special Instructions (optional) | Y5: Gift Message | AA5: Order # | AB5: Recipient Full Name | AC5: Recipient Phone | AD5: Recipient Company | AE5: Address Line 1 | AF5: Address Line 2 | AG5: City | AH5: State | AI5: Postal Code | AJ5: Shipping Service | AK5: Custom Field 1 | AL5: Buyer Full Name | AM5: Buyer Phone | AN5: Order Date | AO5: Item Name / Title | AP5: Gift Message | AQ5: Weight(oz) | AR5: Custom Field 2 | AS5: Custom Field 3 | AT5: Internal Notes
A6: 1 | AB6: =C6 -> 0 | AC6: =D6 -> 0 | AD6: =IF(ISBLANK(E6),"",E6) | AE6: =F6 -> 0 | AF6: =IF(ISBLANK(G6),"",G6) | AG6: =H6 -> 0 | AH6: =I6 -> 0 | AI6: =J6 -> 0 | AJ6: =K6 -> 0 | AK6: =L6 -> 0 | AO6: =CONCATENATE(N6,$AO$1,M6,$AO$1,O6,$AQ$1,$AO$1,Q6,$AO$1,P6,$AO$1,R6,$AQ$1,$AO$1,T6,$AO$1,S6,$AO$1,U6,$AQ$1,$AO$1,W6,$AO$1,V6,$AO$1,X6) -> ; ; ; | AP6: =Y6 -> 0 | AQ6: =(IF(M6="",0,VLOOKUP(M6,'Product List'!$A$6:$C$60,3,FALSE)*N6)+IF(P6="",0,VLOOKUP(P6,'Product List'!$A$6:$C$60,3,FALSE)*Q6)+IF(S6="",0,VLOOKUP(S6,'Product List'!$A$6:$C$60,3,FALSE)*T6)+IF(V6="",0,VLOOKUP(V6,'Product List'!$A$6:$C$60,3,FALSE)*W6))+$AQ$2 -> 16 | AS6: =IF(ISBLANK(AN6),"","Corporate") | AT6: =IF(ISBLANK(AN6),"","Ready to Ship")
A7: 2 | AB7: =C7 -> 0 | AC7: =D7 -> 0 | AD7: =IF(ISBLANK(E7),"",E7) | AE7: =F7 -> 0 | AF7: =IF(ISBLANK(G7),"",G7) | AG7: =H7 -> 0 | AH7: =I7 -> 0 | AI7: =J7 -> 0 | AJ7: =K7 -> 0 | AK7: =L7 -> 0 | AO7: =CONCATENATE(N7,$AO$1,M7,$AO$1,O7,$AQ$1,$AO$1,Q7,$AO$1,P7,$AO$1,R7,$AQ$1,$AO$1,T7,$AO$1,S7,$AO$1,U7,$AQ$1,$AO$1,W7,$AO$1,V7,$AO$1,X7) -> ; ; ; | AP7: =Y7 -> 0 | AQ7: =(IF(M7="",0,VLOOKUP(M7,'Product List'!$A$6:$C$60,3,FALSE)*N7)+IF(P7="",0,VLOOKUP(P7,'Product List'!$A$6:$C$60,3,FALSE)*Q7)+IF(S7="",0,VLOOKUP(S7,'Product List'!$A$6:$C$60,3,FALSE)*T7)+IF(V7="",0,VLOOKUP(V7,'Product List'!$A$6:$C$60,3,FALSE)*W7))+$AQ$2 -> 16 | AS7: =IF(ISBLANK(AN7),"","Corporate") | AT7: =IF(ISBLANK(AN7),"","Ready to Ship")
A8: 3 | AB8: =C8 -> 0 | AC8: =D8 -> 0 | AD8: =IF(ISBLANK(E8),"",E8) | AE8: =F8 -> 0 | AF8: =IF(ISBLANK(G8),"",G8) | AG8: =H8 -> 0 | AH8: =I8 -> 0 | AI8: =J8 -> 0 | AJ8: =K8 -> 0 | AK8: =L8 -> 0 | AO8: =CONCATENATE(N8,$AO$1,M8,$AO$1,O8,$AQ$1,$AO$1,Q8,$AO$1,P8,$AO$1,R8,$AQ$1,$AO$1,T8,$AO$1,S8,$AO$1,U8,$AQ$1,$AO$1,W8,$AO$1,V8,$AO$1,X8) -> ; ; ; | AP8: =Y8 -> 0 | AQ8: =(IF(M8="",0,VLOOKUP(M8,'Product List'!$A$6:$C$60,3,FALSE)*N8)+IF(P8="",0,VLOOKUP(P8,'Product List'!$A$6:$C$60,3,FALSE)*Q8)+IF(S8="",0,VLOOKUP(S8,'Product List'!$A$6:$C$60,3,FALSE)*T8)+IF(V8="",0,VLOOKUP(V8,'Product List'!$A$6:$C$60,3,FALSE)*W8))+$AQ$2 -> 16 | AS8: =IF(ISBLANK(AN8),"","Corporate") | AT8: =IF(ISBLANK(AN8),"","Ready to Ship")
A9: 4 | AB9: =C9 -> 0 | AC9: =D9 -> 0 | AD9: =IF(ISBLANK(E9),"",E9) | AE9: =F9 -> 0 | AF9: =IF(ISBLANK(G9),"",G9) | AG9: =H9 -> 0 | AH9: =I9 -> 0 | AI9: =J9 -> 0 | AJ9: =K9 -> 0 | AK9: =L9 -> 0 | AO9: =CONCATENATE(N9,$AO$1,M9,$AO$1,O9,$AQ$1,$AO$1,Q9,$AO$1,P9,$AO$1,R9,$AQ$1,$AO$1,T9,$AO$1,S9,$AO$1,U9,$AQ$1,$AO$1,W9,$AO$1,V9,$AO$1,X9) -> ; ; ; | AP9: =Y9 -> 0 | AQ9: =(IF(M9="",0,VLOOKUP(M9,'Product List'!$A$6:$C$60,3,FALSE)*N9)+IF(P9="",0,VLOOKUP(P9,'Product List'!$A$6:$C$60,3,FALSE)*Q9)+IF(S9="",0,VLOOKUP(S9,'Product List'!$A$6:$C$60,3,FALSE)*T9)+IF(V9="",0,VLOOKUP(V9,'Product List'!$A$6:$C$60,3,FALSE)*W9))+$AQ$2 -> 16 | AS9: =IF(ISBLANK(AN9),"","Corporate") | AT9: =IF(ISBLANK(AN9),"","Ready to Ship")
A10: 5 | AB10: =C10 -> 0 | AC10: =D10 -> 0 | AD10: =IF(ISBLANK(E10),"",E10) | AE10: =F10 -> 0 | AF10: =IF(ISBLANK(G10),"",G10) | AG10: =H10 -> 0 | AH10: =I10 -> 0 | AI10: =J10 -> 0 | AJ10: =K10 -> 0 | AK10: =L10 -> 0 | AO10: =CONCATENATE(N10,$AO$1,M10,$AO$1,O10,$AQ$1,$AO$1,Q10,$AO$1,P10,$AO$1,R10,$AQ$1,$AO$1,T10,$AO$1,S10,$AO$1,U10,$AQ$1,$AO$1,W10,$AO$1,V10,$AO$1,X10) -> ; ; ; | AP10: =Y10 -> 0 | AQ10: =(IF(M10="",0,VLOOKUP(M10,'Product List'!$A$6:$C$60,3,FALSE)*N10)+IF(P10="",0,VLOOKUP(P10,'Product List'!$A$6:$C$60,3,FALSE)*Q10)+IF(S10="",0,VLOOKUP(S10,'Product List'!$A$6:$C$60,3,FALSE)*T10)+IF(V10="",0,VLOOKUP(V10,'Product List'!$A$6:$C$60,3,FALSE)*W10))+$AQ$2 -> 16 | AS10: =IF(ISBLANK(AN10),"","Corporate") | AT10: =IF(ISBLANK(AN10),"","Ready to Ship")
A11: 6 | AB11: =C11 -> 0 | AC11: =D11 -> 0 | AD11: =IF(ISBLANK(E11),"",E11) | AE11: =F11 -> 0 | AF11: =IF(ISBLANK(G11),"",G11) | AG11: =H11 -> 0 | AH11: =I11 -> 0 | AI11: =J11 -> 0 | AJ11: =K11 -> 0 | AK11: =L11 -> 0 | AO11: =CONCATENATE(N11,$AO$1,M11,$AO$1,O11,$AQ$1,$AO$1,Q11,$AO$1,P11,$AO$1,R11,$AQ$1,$AO$1,T11,$AO$1,S11,$AO$1,U11,$AQ$1,$AO$1,W11,$AO$1,V11,$AO$1,X11) -> ; ; ; | AP11: =Y11 -> 0 | AQ11: =(IF(M11="",0,VLOOKUP(M11,'Product List'!$A$6:$C$60,3,FALSE)*N11)+IF(P11="",0,VLOOKUP(P11,'Product List'!$A$6:$C$60,3,FALSE)*Q11)+IF(S11="",0,VLOOKUP(S11,'Product List'!$A$6:$C$60,3,FALSE)*T11)+IF(V11="",0,VLOOKUP(V11,'Product List'!$A$6:$C$60,3,FALSE)*W11))+$AQ$2 -> 16 | AS11: =IF(ISBLANK(AN11),"","Corporate") | AT11: =IF(ISBLANK(AN11),"","Ready to Ship")
A12: 7 | AB12: =C12 -> 0 | AC12: =D12 -> 0 | AD12: =IF(ISBLANK(E12),"",E12) | AE12: =F12 -> 0 | AF12: =IF(ISBLANK(G12),"",G12) | AG12: =H12 -> 0 | AH12: =I12 -> 0 | AI12: =J12 -> 0 | AJ12: =K12 -> 0 | AK12: =L12 -> 0 | AO12: =CONCATENATE(N12,$AO$1,M12,$AO$1,O12,$AQ$1,$AO$1,Q12,$AO$1,P12,$AO$1,R12,$AQ$1,$AO$1,T12,$AO$1,S12,$AO$1,U12,$AQ$1,$AO$1,W12,$AO$1,V12,$AO$1,X12) -> ; ; ; | AP12: =Y12 -> 0 | AQ12: =(IF(M12="",0,VLOOKUP(M12,'Product List'!$A$6:$C$60,3,FALSE)*N12)+IF(P12="",0,VLOOKUP(P12,'Product List'!$A$6:$C$60,3,FALSE)*Q12)+IF(S12="",0,VLOOKUP(S12,'Product List'!$A$6:$C$60,3,FALSE)*T12)+IF(V12="",0,VLOOKUP(V12,'Product List'!$A$6:$C$60,3,FALSE)*W12))+$AQ$2 -> 16 | AS12: =IF(ISBLANK(AN12),"","Corporate") | AT12: =IF(ISBLANK(AN12),"","Ready to Ship")
A13: 8 | AB13: =C13 -> 0 | AC13: =D13 -> 0 | AD13: =IF(ISBLANK(E13),"",E13) | AE13: =F13 -> 0 | AF13: =IF(ISBLANK(G13),"",G13) | AG13: =H13 -> 0 | AH13: =I13 -> 0 | AI13: =J13 -> 0 | AJ13: =K13 -> 0 | AK13: =L13 -> 0 | AO13: =CONCATENATE(N13,$AO$1,M13,$AO$1,O13,$AQ$1,$AO$1,Q13,$AO$1,P13,$AO$1,R13,$AQ$1,$AO$1,T13,$AO$1,S13,$AO$1,U13,$AQ$1,$AO$1,W13,$AO$1,V13,$AO$1,X13) -> ; ; ; | AP13: =Y13 -> 0 | AQ13: =(IF(M13="",0,VLOOKUP(M13,'Product List'!$A$6:$C$60,3,FALSE)*N13)+IF(P13="",0,VLOOKUP(P13,'Product List'!$A$6:$C$60,3,FALSE)*Q13)+IF(S13="",0,VLOOKUP(S13,'Product List'!$A$6:$C$60,3,FALSE)*T13)+IF(V13="",0,VLOOKUP(V13,'Product List'!$A$6:$C$60,3,FALSE)*W13))+$AQ$2 -> 16 | AS13: =IF(ISBLANK(AN13),"","Corporate") | AT13: =IF(ISBLANK(AN13),"","Ready to Ship")
A14: 9 | AB14: =C14 -> 0 | AC14: =D14 -> 0 | AD14: =IF(ISBLANK(E14),"",E14) | AE14: =F14 -> 0 | AF14: =IF(ISBLANK(G14),"",G14) | AG14: =H14 -> 0 | AH14: =I14 -> 0 | AI14: =J14 -> 0 | AJ14: =K14 -> 0 | AK14: =L14 -> 0 | AO14: =CONCATENATE(N14,$AO$1,M14,$AO$1,O14,$AQ$1,$AO$1,Q14,$AO$1,P14,$AO$1,R14,$AQ$1,$AO$1,T14,$AO$1,S14,$AO$1,U14,$AQ$1,$AO$1,W14,$AO$1,V14,$AO$1,X14) -> ; ; ; | AP14: =Y14 -> 0 | AQ14: =(IF(M14="",0,VLOOKUP(M14,'Product List'!$A$6:$C$60,3,FALSE)*N14)+IF(P14="",0,VLOOKUP(P14,'Product List'!$A$6:$C$60,3,FALSE)*Q14)+IF(S14="",0,VLOOKUP(S14,'Product List'!$A$6:$C$60,3,FALSE)*T14)+IF(V14="",0,VLOOKUP(V14,'Product List'!$A$6:$C$60,3,FALSE)*W14))+$AQ$2 -> 16 | AS14: =IF(ISBLANK(AN14),"","Corporate") | AT14: =IF(ISBLANK(AN14),"","Ready to Ship")
A15: 10 | AB15: =C15 -> 0 | AC15: =D15 -> 0 | AD15: =IF(ISBLANK(E15),"",E15) | AE15: =F15 -> 0 | AF15: =IF(ISBLANK(G15),"",G15) | AG15: =H15 -> 0 | AH15: =I15 -> 0 | AI15: =J15 -> 0 | AJ15: =K15 -> 0 | AK15: =L15 -> 0 | AO15: =CONCATENATE(N15,$AO$1,M15,$AO$1,O15,$AQ$1,$AO$1,Q15,$AO$1,P15,$AO$1,R15,$AQ$1,$AO$1,T15,$AO$1,S15,$AO$1,U15,$AQ$1,$AO$1,W15,$AO$1,V15,$AO$1,X15) -> ; ; ; | AP15: =Y15 -> 0 | AQ15: =(IF(M15="",0,VLOOKUP(M15,'Product List'!$A$6:$C$60,3,FALSE)*N15)+IF(P15="",0,VLOOKUP(P15,'Product List'!$A$6:$C$60,3,FALSE)*Q15)+IF(S15="",0,VLOOKUP(S15,'Product List'!$A$6:$C$60,3,FALSE)*T15)+IF(V15="",0,VLOOKUP(V15,'Product List'!$A$6:$C$60,3,FALSE)*W15))+$AQ$2 -> 16 | AS15: =IF(ISBLANK(AN15),"","Corporate") | AT15: =IF(ISBLANK(AN15),"","Ready to Ship")
A16: 11 | AB16: =C16 -> 0 | AC16: =D16 -> 0 | AD16: =IF(ISBLANK(E16),"",E16) | AE16: =F16 -> 0 | AF16: =IF(ISBLANK(G16),"",G16) | AG16: =H16 -> 0 | AH16: =I16 -> 0 | AI16: =J16 -> 0 | AJ16: =K16 -> 0 | AK16: =L16 -> 0 | AO16: =CONCATENATE(N16,$AO$1,M16,$AO$1,O16,$AQ$1,$AO$1,Q16,$AO$1,P16,$AO$1,R16,$AQ$1,$AO$1,T16,$AO$1,S16,$AO$1,U16,$AQ$1,$AO$1,W16,$AO$1,V16,$AO$1,X16) -> ; ; ; | AP16: =Y16 -> 0 | AQ16: =(IF(M16="",0,VLOOKUP(M16,'Product List'!$A$6:$C$60,3,FALSE)*N16)+IF(P16="",0,VLOOKUP(P16,'Product List'!$A$6:$C$60,3,FALSE)*Q16)+IF(S16="",0,VLOOKUP(S16,'Product List'!$A$6:$C$60,3,FALSE)*T16)+IF(V16="",0,VLOOKUP(V16,'Product List'!$A$6:$C$60,3,FALSE)*W16))+$AQ$2 -> 16 | AS16: =IF(ISBLANK(AN16),"","Corporate") | AT16: =IF(ISBLANK(AN16),"","Ready to Ship")
A17: 12 | AB17: =C17 -> 0 | AC17: =D17 -> 0 | AD17: =IF(ISBLANK(E17),"",E17) | AE17: =F17 -> 0 | AF17: =IF(ISBLANK(G17),"",G17) | AG17: =H17 -> 0 | AH17: =I17 -> 0 | AI17: =J17 -> 0 | AJ17: =K17 -> 0 | AK17: =L17 -> 0 | AO17: =CONCATENATE(N17,$AO$1,M17,$AO$1,O17,$AQ$1,$AO$1,Q17,$AO$1,P17,$AO$1,R17,$AQ$1,$AO$1,T17,$AO$1,S17,$AO$1,U17,$AQ$1,$AO$1,W17,$AO$1,V17,$AO$1,X17) -> ; ; ; | AP17: =Y17 -> 0 | AQ17: =(IF(M17="",0,VLOOKUP(M17,'Product List'!$A$6:$C$60,3,FALSE)*N17)+IF(P17="",0,VLOOKUP(P17,'Product List'!$A$6:$C$60,3,FALSE)*Q17)+IF(S17="",0,VLOOKUP(S17,'Product List'!$A$6:$C$60,3,FALSE)*T17)+IF(V17="",0,VLOOKUP(V17,'Product List'!$A$6:$C$60,3,FALSE)*W17))+$AQ$2 -> 16 | AS17: =IF(ISBLANK(AN17),"","Corporate") | AT17: =IF(ISBLANK(AN17),"","Ready to Ship")
... A405: 400 | AB405: =C405 -> 0 | AC405: =D405 -> 0 | AD405: =IF(ISBLANK(E405),"",E405) | AE405: =F405 -> 0 | AF405: =IF(ISBLANK(G405),"",G405) | AG405: =H405 -> 0 | AH405: =I405 -> 0 | AI405: =J405 -> 0 | AJ405: =K405 -> 0 | AK405: =L405 -> 0 | AO405: =CONCATENATE(N405,$AO$1,M405,$AO$1,O405,$AQ$1,$AO$1,Q405,$AO$1,P405,$AO$1,R405,$AQ$1,$AO$1,T405,$AO$1,S405,$AO$1,U405,$AQ$1,$AO$1,W405,$AO$1,V405,$AO$1,X405) -> ; ; ; | AP405: =Y405 -> 0 | AQ405: =(IF(M405="",0,VLOOKUP(M405,'Product List'!$A$6:$C$60,3,FALSE)*N405)+IF(P405="",0,VLOOKUP(P405,'Product List'!$A$6:$C$60,3,FALSE)*Q405)+IF(S405="",0,VLOOKUP(S405,'Product List'!$A$6:$C$60,3,FALSE)*T405)+IF(V405="",0,VLOOKUP(V405,'Product List'!$A$6:$C$60,3,FALSE)*W405))+$AQ$2 -> 16 | AS405: =IF(ISBLANK(AN405),"","Corporate") | AT405: =IF(ISBLANK(AN405),"","Ready to Ship")

Sheet Product List
A1: Complete List of Products
A3: Product Name | B3: SKU | C3: Gross Wt. (oz)
A5: 2pc Amenity Box Ebony Clear Lid | B5: 402 | C5: 1.7
A6: 4pc Amenity Box Ebony Clear Lid | B6: 863 | C6: 3.4
A7: 4pc Amenity Box Ebony Hinged Lid | B7: 862 | C7: 3.4
A8: 9pc Amenity Box Gray Hinged Lid | B8: 864 | C8: 7.7
A9: Autumn Collection Box 4pc | B9: 857 | C9: 3.3
A10: Banana Caramel Truffle Batons 2pc | B10: 846 | C10: 1.9
A11: Bittersweet Bar | B11: 840 | C11: 3.9
A12: Bittersweet + Nibs Bar | B12: 603 | C12: 3.85
A13: Black Box 16pc | B13: 800 | C13: 11.9
A14: Black Box 32pc | B14: 801 | C14: 23
A15: Black Box 88pc | B15: 806 | C15: 49.98
A16: Burnt Caramel Almond Bar | B16: 843 | C16: 3.9
... A27: Creativity Explored SF Icons 8pc | B27: 852 | C27: 5.3
A28: CUSTOM Black Box 16pc | B28: 800s | C28: 11.9
A29: CUSTOM Black Box 32pc | B29: 801s | C29: 23
A30: CUSTOM Black Box 88pc | B30: 806s | C30: 49.98
A31: Dark Chocolate Covered Grahams 5pc | B31: 220 | C31: 5.4
A32: Dark Chocolate Gift Box | B32: 869 | C32: 87
A33: Dark Chocolate Pistoles 12oz | B33: 836 | C33: 14.9
A34: Dark Milk Bar | B34: 842 | C34: 3.9
A35: Dragee Sampler | B35: 830 | C35: 16.8
A36: Fleur De Sel Caramels Box 16pc | B36: 812 | C36: 7.6
A37: Force Noir Box 8pc | B37: 865 | C37: 5.2
A38: Fudge Brownie Box 6pc | B38: 871 | C38: 22
A39: Key Lime Apples Box | B39: 811 | C39: 6.9
A40: Mendiants | B40: 835 | C40: 6.45
A41: No. 9 Box | B41: 885 | C41: 7.35
A42: Noir Box 9pc | B42: 823 | C42: 7.7
... A64: XOXO Box 88pc | B64: 808 | C64: 49.98

Sheet Shipping Service
A1: Ground | B1: Signature | C1: AL
A2: 2Day | B2: No | C2: AK
A3: Standard Overnight | C3: AZ
A4: Priority Overnight | C4: AR
C5: CA
C6: CO
C7: CT
C8: DC
C9: DE
C10: FL
C11: GA
C12: HI
C13: ID
C14: IL
C15: IN
C16: IA
... C51: WY
